BEGIN:VCALENDAR
VERSION:2.0
PRODID:-//wp-events-plugin.com//7.2.3//EN
BEGIN:VEVENT
UID:1@lucasmariconda.com
DTSTART;VALUE=DATE:20240424
DTEND;VALUE=DATE:20240501
DTSTAMP:20231122T130622Z
URL:https://lucasmariconda.com/events/dakar-rally-2024/
SUMMARY:Dakar Rally 2024
DESCRIPTION:Mauris mauris ex\, hendrerit et turpis et\, mattis elementum di
 am. Etiam risus elit\, volutpat id erat eget\, auctor sagittis diam. Cras 
 ex dui\, porta nec eros a\, tincidunt luctus lectus. In odio lectus\, comm
 odo at dui vel\, posuere lobortis erat. Praesent placerat sed eros non con
 gue. Etiam pellentesque massa in porta pretium. Vestibulum quis metus in l
 acus ullamcorper congue ut vel augue.
ATTACH;FMTTYPE=image/jpeg:https://lucasmariconda.com/wp-content/uploads/20
 23/11/event5.jpg
CATEGORIES:Off Road Racing
LOCATION:South America\, Atacama Trail\, Atacama Desert\, Chile
X-APPLE-STRUCTURED-LOCATION;VALUE=URI;X-ADDRESS=Atacama Trail\, Atacama Des
 ert\, Chile;X-APPLE-RADIUS=100;X-TITLE=South America:geo:0,0
END:VEVENT
END:VCALENDAR