BEGIN:VCALENDAR
VERSION:2.0
PRODID:-//wp-events-plugin.com//7.2.3//EN
BEGIN:VEVENT
UID:5@lucasmariconda.com
DTSTART;VALUE=DATE:20240910
DTEND;VALUE=DATE:20240916
DTSTAMP:20231122T105221Z
URL:https://lucasmariconda.com/events/desert-foxes-world-rally/
SUMMARY:Desert Foxes World Rally
DESCRIPTION:
ATTACH;FMTTYPE=image/jpeg:https://lucasmariconda.com/wp-content/uploads/20
 23/11/event5-1.jpg
CATEGORIES:Off Road Racing,World Rally
LOCATION:South America\, Atacama Trail\, Atacama Desert\, Chile
X-APPLE-STRUCTURED-LOCATION;VALUE=URI;X-ADDRESS=Atacama Trail\, Atacama Des
 ert\, Chile;X-APPLE-RADIUS=100;X-TITLE=South America:geo:0,0
END:VEVENT
END:VCALENDAR